BEGIN:VCALENDAR
VERSION:2.0
METHOD:PUBLISH
PRODID:-//Causal Sarl//LionsBase Calendar 5.0.x-dev//DE
TZID:Europe/Zurich
BEGIN:VEVENT
UID:33437_20260903@steyr-st-ulrich.lions.at
TRANSP:TRANSPARENT
X-FUNAMBOL-ALLDAY:1
X-MICROSOFT-CDO-ALLDAYEVENT:1
DTSTAMP:20260421T141842Z
DTSTART;VALUE=DATE:20260903
DTEND;VALUE=DATE:20260907
ORGANIZER:LC Steyr St. Ulrich LCSU-Kalender
LOCATION:Amsterdam
SUMMARY:Clubreise
DESCRIPTION:
END:VEVENT
END:VCALENDAR
