BEGIN:VCALENDAR
VERSION:2.0
METHOD:PUBLISH
PRODID:-//Causal Sarl//LionsBase Calendar 5.0.x-dev//DE
TZID:Europe/Zurich
BEGIN:VEVENT
UID:33519_20260506@steyr-st-ulrich.lions.at
DTSTAMP:20260421T142510Z
DTSTART:20260506T160000Z
DTEND:20260506T190000Z
ORGANIZER:LC Steyr St. Ulrich
LOCATION:Luftschutzkeller
SUMMARY:"Steyr Underground" - Fr. Prof. Ulrich
DESCRIPTION:
END:VEVENT
END:VCALENDAR
