BEGIN:VCALENDAR
VERSION:2.0
METHOD:PUBLISH
PRODID:-//Causal Sarl//LionsBase Calendar 5.0.x-dev//DE
TZID:Europe/Zurich
BEGIN:VEVENT
UID:33521_20260603@steyr-st-ulrich.lions.at
DTSTAMP:20260421T142051Z
DTSTART:20260603T173000Z
DTEND:20260603T190000Z
ORGANIZER:LC Steyr St. Ulrich
LOCATION:Clublokal
SUMMARY:Beckenboden für Damen und Herren
DESCRIPTION:
END:VEVENT
END:VCALENDAR
