BEGIN:VCALENDAR
VERSION:2.0
METHOD:PUBLISH
PRODID:-//Causal Sarl//LionsBase Calendar 5.0.x-dev//DE
TZID:Europe/Zurich
BEGIN:VEVENT
UID:33523_20260701@steyr-st-ulrich.lions.at
DTSTAMP:20260421T141605Z
DTSTART:20260701T170000Z
DTEND:20260701T190000Z
ORGANIZER:LC Steyr St. Ulrich
LOCATION:Clublokal
SUMMARY:Präsidentenübergabe
DESCRIPTION:
END:VEVENT
END:VCALENDAR
