BEGIN:VCALENDAR
VERSION:2.0
METHOD:PUBLISH
PRODID:-//Causal Sarl//LionsBase Calendar 5.0.x-dev//EN
TZID:Europe/Zurich
BEGIN:VEVENT
UID:33520_20260520@steyr-st-ulrich.lions.at
DTSTAMP:20260421T124810Z
DTSTART:20260520T173000Z
DTEND:20260520T190000Z
ORGANIZER:LC Steyr St. Ulrich
LOCATION:Clublokal
SUMMARY:Sozial- und Jugendarbeit in Steyr - Mario Ferrari
DESCRIPTION:
END:VEVENT
END:VCALENDAR
