BEGIN:VCALENDAR
VERSION:2.0
METHOD:PUBLISH
PRODID:-//Causal Sarl//LionsBase Calendar 5.0.x-dev//EN
TZID:Europe/Zurich
BEGIN:VEVENT
UID:33522_20260617@steyr-st-ulrich.lions.at
DTSTAMP:20260421T124920Z
DTSTART:20260617T173000Z
DTEND:20260617T190000Z
ORGANIZER:LC Steyr St. Ulrich
LOCATION:Familie Fellinger
SUMMARY:Sonnwendfeier
DESCRIPTION:
END:VEVENT
END:VCALENDAR
